BEGIN:VCALENDAR
VERSION:2.0
PRODID:-//Connect SF - ECPv6.4.0.1//NONSGML v1.0//EN
CALSCALE:GREGORIAN
METHOD:PUBLISH
X-ORIGINAL-URL:https://connectsf.org
X-WR-CALDESC:Events for Connect SF
REFRESH-INTERVAL;VALUE=DURATION:PT1H
X-Robots-Tag:noindex
X-PUBLISHED-TTL:PT1H
BEGIN:VTIMEZONE
TZID:America/Los_Angeles
BEGIN:DAYLIGHT
TZOFFSETFROM:-0800
TZOFFSETTO:-0700
TZNAME:PDT
DTSTART:20190310T100000
END:DAYLIGHT
BEGIN:STANDARD
TZOFFSETFROM:-0700
TZOFFSETTO:-0800
TZNAME:PST
DTSTART:20191103T090000
END:STANDARD
END:VTIMEZONE
BEGIN:VEVENT
DTSTART;TZID=America/Los_Angeles:20190611T153000
DTEND;TZID=America/Los_Angeles:20190611T173000
DTSTAMP:20260423T164640
CREATED:20190516T000157Z
LAST-MODIFIED:20190520T171410Z
UID:788-1560267000-1560274200@connectsf.org
SUMMARY:SFMTA Operations & Customer Service Committee (OCSC) Meeting
DESCRIPTION:ConnectSF staff will present the key findings from the statement of needs. \nPlease check the SFMTA website for the meeting agenda.  \nThe meeting will take place in the Noe Valley Conference Room on the 7th floor.
URL:https://connectsf.org/event/sfmta-operations-customer-service-committee-ocsc-meeting/
LOCATION:San Francisco Municipal Transportation Agency\, 1 S Van Ness Avenue\, San Francisco\, CA\, 94103\, United States
CATEGORIES:ConnectSF Presentation
END:VEVENT
END:VCALENDAR