BEGIN:VCALENDAR
VERSION:2.0
PRODID:-//Connect SF - ECPv6.4.0.1//NONSGML v1.0//EN
CALSCALE:GREGORIAN
METHOD:PUBLISH
X-WR-CALNAME:Connect SF
X-ORIGINAL-URL:https://connectsf.org
X-WR-CALDESC:Events for Connect SF
REFRESH-INTERVAL;VALUE=DURATION:PT1H
X-Robots-Tag:noindex
X-PUBLISHED-TTL:PT1H
BEGIN:VTIMEZONE
TZID:America/Los_Angeles
BEGIN:DAYLIGHT
TZOFFSETFROM:-0800
TZOFFSETTO:-0700
TZNAME:PDT
DTSTART:20190310T100000
END:DAYLIGHT
BEGIN:STANDARD
TZOFFSETFROM:-0700
TZOFFSETTO:-0800
TZNAME:PST
DTSTART:20191103T090000
END:STANDARD
END:VTIMEZONE
BEGIN:VEVENT
DTSTART;TZID=America/Los_Angeles:20190613T130000
DTEND;TZID=America/Los_Angeles:20190613T160000
DTSTAMP:20260423T123702
CREATED:20190516T000557Z
LAST-MODIFIED:20190520T171540Z
UID:791-1560430800-1560441600@connectsf.org
SUMMARY:Planning Commission Meeting
DESCRIPTION:ConnectSF staff will present the key findings from the statement of needs. \nAgenda will be posted on the San Francisco Planning website one week prior to the meeting. \nThe meeting will take place in Room 400 of City Hall.
URL:https://connectsf.org/event/planning-commission-meeting/
LOCATION:San Francisco City Hall\, 1 Dr Carlton B Goodlett Pl\, San Francisco\, CA\, 94102\, United States
CATEGORIES:ConnectSF Presentation
END:VEVENT
END:VCALENDAR