BEGIN:VCALENDAR
VERSION:2.0
PRODID:-//Connect SF - ECPv6.4.0.1//NONSGML v1.0//EN
CALSCALE:GREGORIAN
METHOD:PUBLISH
X-WR-CALNAME:Connect SF
X-ORIGINAL-URL:https://connectsf.org
X-WR-CALDESC:Events for Connect SF
REFRESH-INTERVAL;VALUE=DURATION:PT1H
X-Robots-Tag:noindex
X-PUBLISHED-TTL:PT1H
BEGIN:VTIMEZONE
TZID:America/Los_Angeles
BEGIN:DAYLIGHT
TZOFFSETFROM:-0800
TZOFFSETTO:-0700
TZNAME:PDT
DTSTART:20190310T100000
END:DAYLIGHT
BEGIN:STANDARD
TZOFFSETFROM:-0700
TZOFFSETTO:-0800
TZNAME:PST
DTSTART:20191103T090000
END:STANDARD
END:VTIMEZONE
BEGIN:VEVENT
DTSTART;TZID=America/Los_Angeles:20190618T130000
DTEND;TZID=America/Los_Angeles:20190618T160000
DTSTAMP:20260423T123708
CREATED:20190515T235431Z
LAST-MODIFIED:20190619T192657Z
UID:785-1560862800-1560873600@connectsf.org
SUMMARY:SFMTA Board Meeting
DESCRIPTION:There will be a presentation from ConnectSF on key findings of the statement of needs.  \nPlease check the SFMTA website for the meeting agenda.  \nThe meeting will take place in Room 400 on the 4th floor of City Hall.
URL:https://connectsf.org/event/sfmta-board-meeting/
LOCATION:San Francisco City Hall\, 1 Dr Carlton B Goodlett Pl\, San Francisco\, CA\, 94102\, United States
CATEGORIES:ConnectSF Presentation
END:VEVENT
END:VCALENDAR