BEGIN:VCALENDAR
VERSION:2.0
PRODID:-//Connect SF - ECPv6.4.0.1//NONSGML v1.0//EN
CALSCALE:GREGORIAN
METHOD:PUBLISH
X-WR-CALNAME:Connect SF
X-ORIGINAL-URL:https://connectsf.org
X-WR-CALDESC:Events for Connect SF
REFRESH-INTERVAL;VALUE=DURATION:PT1H
X-Robots-Tag:noindex
X-PUBLISHED-TTL:PT1H
BEGIN:VTIMEZONE
TZID:America/Los_Angeles
BEGIN:DAYLIGHT
TZOFFSETFROM:-0800
TZOFFSETTO:-0700
TZNAME:PDT
DTSTART:20210314T100000
END:DAYLIGHT
BEGIN:STANDARD
TZOFFSETFROM:-0700
TZOFFSETTO:-0800
TZNAME:PST
DTSTART:20211107T090000
END:STANDARD
END:VTIMEZONE
BEGIN:VEVENT
DTSTART;TZID=America/Los_Angeles:20210323T100000
DTEND;TZID=America/Los_Angeles:20210323T120000
DTSTAMP:20260422T070413
CREATED:20210322T175638Z
LAST-MODIFIED:20210322T180936Z
UID:875-1616493600-1616500800@connectsf.org
SUMMARY:Transportation Authority Board Meeting
DESCRIPTION:We will be presenting an update on the ConnectSF Transit Strategy (Item #12) at this Transportation Authority Board Meeting. \n\nWays to Watch: SF Cable Channel 26 OR www.sfgovtv.org OR https://bit.ly/3abXd1X\nPublic Comment Call-in: 1 (415) 655-0001; Access Code: 187 205 2695 # #\nMeeting presentation can be downloaded here: ConnectSF Draft Transit Strategy (PDF)
URL:https://connectsf.org/event/transportation-authority-board-meeting-2/
LOCATION:Virtual Meeting
END:VEVENT
END:VCALENDAR