BEGIN:VCALENDAR
VERSION:2.0
PRODID:-//Connect SF - ECPv6.4.0.1//NONSGML v1.0//EN
CALSCALE:GREGORIAN
METHOD:PUBLISH
X-ORIGINAL-URL:https://connectsf.org
X-WR-CALDESC:Events for Connect SF
REFRESH-INTERVAL;VALUE=DURATION:PT1H
X-Robots-Tag:noindex
X-PUBLISHED-TTL:PT1H
BEGIN:VTIMEZONE
TZID:America/Los_Angeles
BEGIN:DAYLIGHT
TZOFFSETFROM:-0800
TZOFFSETTO:-0700
TZNAME:PDT
DTSTART:20210314T100000
END:DAYLIGHT
BEGIN:STANDARD
TZOFFSETFROM:-0700
TZOFFSETTO:-0800
TZNAME:PST
DTSTART:20211107T090000
END:STANDARD
END:VTIMEZONE
BEGIN:VEVENT
DTSTART;TZID=America/Los_Angeles:20210421T170000
DTEND;TZID=America/Los_Angeles:20210421T180000
DTSTAMP:20260422T120827
CREATED:20210408T234335Z
LAST-MODIFIED:20210409T162500Z
UID:894-1619024400-1619028000@connectsf.org
SUMMARY:Transit Investment Strategy Online Town Hall
DESCRIPTION:The City is rebuilding San Francisco’s transit system to provide better\, more effective transportation for all. We’re excited to have this opportunity to tell you about our approach to reinvest in San Francisco’s transit and hear your feedback on the types of transit improvements most important to you. \nHow: Register for this virtual event here.\nAfter registering\, you will receive a confirmation email containing information about joining the meeting. \nLearn more: https://connectsf.org/developing-the-citys-transit-investment-strategy/ \n 
URL:https://connectsf.org/event/transit-investment-strategy-online-town-hall/
LOCATION:Virtual Meeting
END:VEVENT
END:VCALENDAR