BEGIN:VCALENDAR
VERSION:2.0
PRODID:-//Connect SF - ECPv6.4.0.1//NONSGML v1.0//EN
CALSCALE:GREGORIAN
METHOD:PUBLISH
X-WR-CALNAME:Connect SF
X-ORIGINAL-URL:https://connectsf.org
X-WR-CALDESC:Events for Connect SF
REFRESH-INTERVAL;VALUE=DURATION:PT1H
X-Robots-Tag:noindex
X-PUBLISHED-TTL:PT1H
BEGIN:VTIMEZONE
TZID:America/Los_Angeles
BEGIN:DAYLIGHT
TZOFFSETFROM:-0800
TZOFFSETTO:-0700
TZNAME:PDT
DTSTART:20190310T100000
END:DAYLIGHT
BEGIN:STANDARD
TZOFFSETFROM:-0700
TZOFFSETTO:-0800
TZNAME:PST
DTSTART:20191103T090000
END:STANDARD
END:VTIMEZONE
BEGIN:VEVENT
DTSTART;TZID=America/Los_Angeles:20191113T180000
DTEND;TZID=America/Los_Angeles:20191113T200000
DTSTAMP:20260423T024126
CREATED:20191025T203518Z
LAST-MODIFIED:20191025T204437Z
UID:825-1573668000-1573675200@connectsf.org
SUMMARY:ConnectSF Southeast Workshop
DESCRIPTION:Public transportation in the Southeast is challenging. In fact\, transportation affects all of us each day. Whether you walk\, bike\, drive\, or take public transit\, the decisions we make today will have lasting effects for generations to come.  \nYour feedback will help us identify the transportation project concepts and policies that will build a more equitable\, effective\, and sustainable transportation system for the next 30 years. Live\, work\, or spend time in the Southeast? Please join us for a hands-on\, collaborative workshop to share your ideas.  \nHelp us make sure we bring enough food and materials by taking a moment to RSVP at www.connectsf.org/rsvp-southeast \nContact connectsf@sfgov.org or call 415-522-4800 with any questions. Please let us know if you need specific accommodations.
URL:https://connectsf.org/event/southeast-workshop/
LOCATION:Southeast Community Facility\, 1800 Oakdale Avenue\, San Francisco\, CA\, United States
CATEGORIES:ConnectSF Workshop
END:VEVENT
BEGIN:VEVENT
DTSTART;TZID=America/Los_Angeles:20191121T170000
DTEND;TZID=America/Los_Angeles:20191121T190000
DTSTAMP:20260423T024126
CREATED:20191025T204251Z
LAST-MODIFIED:20191025T204251Z
UID:827-1574355600-1574362800@connectsf.org
SUMMARY:ConnectSF Youth Workshop
DESCRIPTION:Where is transportation in San Francisco going over the next 30 years? \nWe invite all young people who live\, work\, or spend time in San Francisco to come to this hands-on workshop. Your input will be critical in helping us identify project concepts and policies to build a transportation system that will best serve you and your peers in the future. Food will be provided.  \nHelp us make sure we bring enough food and materials by taking a moment to RSVP at www.connectsf.org/rsvp-youth \nThis workshop is co-hosted with the San Francisco Youth Commission. \nContact connectsf@sfgov.org or call 415-522-4800 with any questions. Please let us know if you need specific accommodations.
URL:https://connectsf.org/event/connectsf-youth-workshop/
LOCATION:Mission High School\, 3750 18th Street\, San Francisco\, CA\, United States
CATEGORIES:ConnectSF Workshop
END:VEVENT
END:VCALENDAR