BEGIN:VCALENDAR
VERSION:2.0
PRODID:-//Connect SF - ECPv6.4.0.1//NONSGML v1.0//EN
CALSCALE:GREGORIAN
METHOD:PUBLISH
X-ORIGINAL-URL:https://connectsf.org
X-WR-CALDESC:Events for Connect SF
REFRESH-INTERVAL;VALUE=DURATION:PT1H
X-Robots-Tag:noindex
X-PUBLISHED-TTL:PT1H
BEGIN:VTIMEZONE
TZID:America/Los_Angeles
BEGIN:DAYLIGHT
TZOFFSETFROM:-0800
TZOFFSETTO:-0700
TZNAME:PDT
DTSTART:20200308T100000
END:DAYLIGHT
BEGIN:STANDARD
TZOFFSETFROM:-0700
TZOFFSETTO:-0800
TZNAME:PST
DTSTART:20201101T090000
END:STANDARD
END:VTIMEZONE
BEGIN:VEVENT
DTSTART;TZID=America/Los_Angeles:20200208T140000
DTEND;TZID=America/Los_Angeles:20200208T160000
DTSTAMP:20260422T214605
CREATED:20200121T222955Z
LAST-MODIFIED:20200121T224330Z
UID:843-1581170400-1581177600@connectsf.org
SUMMARY:Public Workshop - Westside
DESCRIPTION:Live\, work\, or spend time in San Francisco? Join us at one of our upcoming\, hands-on workshops. Your input will be critical in helping us identify project and policy concepts as we look to build a transportation system that will best serve us in the future. \nFood will be provided. \nInterpretation will be provided in Spanish\, Chinese\, and Filipino. \nThe workshop will run the full two hours. Please be sure to arrive on time. \nRSVP for the workshop at this link: http://connectsf.org/RSVP-feb8 \nCan’t attend one of the workshops? Tell us your thoughts by filling out a quick survey: https://connectsf.org/survey/
URL:https://connectsf.org/event/public-workshop-westside/
LOCATION:San Francisco Public Library – Park Branch\, 1833 Page Street\, San Francisco\, CA\, 94117\, United States
END:VEVENT
BEGIN:VEVENT
DTSTART;TZID=America/Los_Angeles:20200213T180000
DTEND;TZID=America/Los_Angeles:20200213T200000
DTSTAMP:20260422T214605
CREATED:20200121T223310Z
LAST-MODIFIED:20200122T180631Z
UID:846-1581616800-1581624000@connectsf.org
SUMMARY:Public Workshop - Eastside
DESCRIPTION:Live\, work\, or spend time in San Francisco? Join us at one of our upcoming\, hands-on workshops. Your input will be critical in helping us identify project and policy concepts as we look to build a transportation system that will best serve us in the future. \nFood will be provided. Interpretation will be provided in Spanish\, Chinese\, and Filipino. \nThe workshop will run the full two hours. Please be sure to arrive on time. \nRSVP for the workshop at this link: https://connectsf.org/rsvp-feb13 \nCan’t attend one of the workshops? Tell us your thoughts by filling out a quick survey: https://connectsf.org/survey/
URL:https://connectsf.org/event/public-workshop-downtown/
LOCATION:Mission Cultural Center\, 2868 Mission Street\, San Francisco\, CA\, 94110\, United States
END:VEVENT
END:VCALENDAR